BEGIN:VCALENDAR
VERSION:2.0
PRODID:-//Trachtengau Niederbayern - ECPv6.15.18//NONSGML v1.0//EN
CALSCALE:GREGORIAN
METHOD:PUBLISH
X-ORIGINAL-URL:https://trachtengau-niederbayern.de
X-WR-CALDESC:Veranstaltungen für Trachtengau Niederbayern
REFRESH-INTERVAL;VALUE=DURATION:PT1H
X-Robots-Tag:noindex
X-PUBLISHED-TTL:PT1H
BEGIN:VTIMEZONE
TZID:Europe/Berlin
BEGIN:DAYLIGHT
TZOFFSETFROM:+0100
TZOFFSETTO:+0200
TZNAME:CEST
DTSTART:20230326T010000
END:DAYLIGHT
BEGIN:STANDARD
TZOFFSETFROM:+0200
TZOFFSETTO:+0100
TZNAME:CET
DTSTART:20231029T010000
END:STANDARD
BEGIN:DAYLIGHT
TZOFFSETFROM:+0100
TZOFFSETTO:+0200
TZNAME:CEST
DTSTART:20240331T010000
END:DAYLIGHT
BEGIN:STANDARD
TZOFFSETFROM:+0200
TZOFFSETTO:+0100
TZNAME:CET
DTSTART:20241027T010000
END:STANDARD
BEGIN:DAYLIGHT
TZOFFSETFROM:+0100
TZOFFSETTO:+0200
TZNAME:CEST
DTSTART:20250330T010000
END:DAYLIGHT
BEGIN:STANDARD
TZOFFSETFROM:+0200
TZOFFSETTO:+0100
TZNAME:CET
DTSTART:20251026T010000
END:STANDARD
END:VTIMEZONE
BEGIN:VEVENT
DTSTART;TZID=Europe/Berlin:20240317T113000
DTEND;TZID=Europe/Berlin:20240317T114500
DTSTAMP:20260423T114853
CREATED:20260320T113948Z
LAST-MODIFIED:20260320T113948Z
UID:10000040-1710675000-1710675900@trachtengau-niederbayern.de
SUMMARY:Vorständetagung 2024
DESCRIPTION:Vorständetagung am 17.03.2024 in Pfeffenhausen
URL:https://trachtengau-niederbayern.de/event/vorstaendetagung-2024/
LOCATION:84076 Pfeffenhausen\, 84076 Pfeffenhausen
CATEGORIES:Trachtengau
END:VEVENT
END:VCALENDAR