BEGIN:VCALENDAR
VERSION:2.0
PRODID:-//Trachtengau Niederbayern - ECPv6.15.18//NONSGML v1.0//EN
CALSCALE:GREGORIAN
METHOD:PUBLISH
X-ORIGINAL-URL:https://trachtengau-niederbayern.de
X-WR-CALDESC:Veranstaltungen für Trachtengau Niederbayern
REFRESH-INTERVAL;VALUE=DURATION:PT1H
X-Robots-Tag:noindex
X-PUBLISHED-TTL:PT1H
BEGIN:VTIMEZONE
TZID:Europe/Berlin
BEGIN:DAYLIGHT
TZOFFSETFROM:+0100
TZOFFSETTO:+0200
TZNAME:CEST
DTSTART:20220327T010000
END:DAYLIGHT
BEGIN:STANDARD
TZOFFSETFROM:+0200
TZOFFSETTO:+0100
TZNAME:CET
DTSTART:20221030T010000
END:STANDARD
BEGIN:DAYLIGHT
TZOFFSETFROM:+0100
TZOFFSETTO:+0200
TZNAME:CEST
DTSTART:20230326T010000
END:DAYLIGHT
BEGIN:STANDARD
TZOFFSETFROM:+0200
TZOFFSETTO:+0100
TZNAME:CET
DTSTART:20231029T010000
END:STANDARD
BEGIN:DAYLIGHT
TZOFFSETFROM:+0100
TZOFFSETTO:+0200
TZNAME:CEST
DTSTART:20240331T010000
END:DAYLIGHT
BEGIN:STANDARD
TZOFFSETFROM:+0200
TZOFFSETTO:+0100
TZNAME:CET
DTSTART:20241027T010000
END:STANDARD
END:VTIMEZONE
BEGIN:VEVENT
DTSTART;TZID=Europe/Berlin:20231104T220000
DTEND;TZID=Europe/Berlin:20231104T221500
DTSTAMP:20260422T182329
CREATED:20260320T113947Z
LAST-MODIFIED:20260320T113947Z
UID:10000038-1699135200-1699136100@trachtengau-niederbayern.de
SUMMARY:Zwiefach tanzn\, spuin und singa
DESCRIPTION:Was erwartet euch an diesem Abend?  Ein „ganz normaler“ Boarischer Tanz\, nur mit dem Unterschied\, dass der Schwerpunkt der Tänze auf Zwiefacher liegt. Ob einfach und gleichmäßig oder einfach ausgefuchst\, es ist für jeden etwas dabei. Natürlich wird sich auch die ein oder andere „normale“ Runde dazwischen mischen. \nDer Tanz findet am Samstag\, den 04.11.2023 im Gasthaus „Plötz“ in Großlintach statt. Beginn ist um 20 Uhr\, es spielt die „Hof&Dorfkapelle“. In diesem Sinne freuen wir uns auf ein Wiedersehen\, wenn es heißt : „Auf zum Zwiefach-Tanzen“ \nFür weitere Fragen oder Reservierungen stehen wir gerne zur Verfügung. \nSascha Helmbrecht \nStellvertretender Gaumusikwart \n\n\n\n 
URL:https://trachtengau-niederbayern.de/event/zwiefach-tanzn-spuin-und-singa-2/
LOCATION:Gasthaus „Plötz“\, Großlintach
CATEGORIES:Trachtengau
END:VEVENT
END:VCALENDAR