BEGIN:VCALENDAR
VERSION:2.0
PRODID:-//Trachtengau Niederbayern - ECPv6.15.18//NONSGML v1.0//EN
CALSCALE:GREGORIAN
METHOD:PUBLISH
X-WR-CALNAME:Trachtengau Niederbayern
X-ORIGINAL-URL:https://trachtengau-niederbayern.de
X-WR-CALDESC:Veranstaltungen für Trachtengau Niederbayern
REFRESH-INTERVAL;VALUE=DURATION:PT1H
X-Robots-Tag:noindex
X-PUBLISHED-TTL:PT1H
BEGIN:VTIMEZONE
TZID:Europe/Berlin
BEGIN:DAYLIGHT
TZOFFSETFROM:+0100
TZOFFSETTO:+0200
TZNAME:CEST
DTSTART:20230326T010000
END:DAYLIGHT
BEGIN:STANDARD
TZOFFSETFROM:+0200
TZOFFSETTO:+0100
TZNAME:CET
DTSTART:20231029T010000
END:STANDARD
BEGIN:DAYLIGHT
TZOFFSETFROM:+0100
TZOFFSETTO:+0200
TZNAME:CEST
DTSTART:20240331T010000
END:DAYLIGHT
BEGIN:STANDARD
TZOFFSETFROM:+0200
TZOFFSETTO:+0100
TZNAME:CET
DTSTART:20241027T010000
END:STANDARD
BEGIN:DAYLIGHT
TZOFFSETFROM:+0100
TZOFFSETTO:+0200
TZNAME:CEST
DTSTART:20250330T010000
END:DAYLIGHT
BEGIN:STANDARD
TZOFFSETFROM:+0200
TZOFFSETTO:+0100
TZNAME:CET
DTSTART:20251026T010000
END:STANDARD
END:VTIMEZONE
BEGIN:VEVENT
DTSTART;TZID=Europe/Berlin:20241115T210000
DTEND;TZID=Europe/Berlin:20241116T000000
DTSTAMP:20260422T001918
CREATED:20260320T114016Z
LAST-MODIFIED:20260320T114016Z
UID:10000053-1731704400-1731715200@trachtengau-niederbayern.de
SUMMARY:Schirmherrin-Bitten in Vilsbiburg für Ndb. Trachtentreffen im Mai 2025
DESCRIPTION:
URL:https://trachtengau-niederbayern.de/event/schirmherrin-bitten-in-vilsbiburg-fuer-ndb-trachtentreffen-im-mai-2025/
LOCATION:Landgasthaus Maier\, Im Dorf 6\, 84137 Frauensattling\, Vilsbiburg
END:VEVENT
END:VCALENDAR