BEGIN:VCALENDAR
VERSION:2.0
PRODID:-//Trachtengau Niederbayern - ECPv6.15.18//NONSGML v1.0//EN
CALSCALE:GREGORIAN
METHOD:PUBLISH
X-ORIGINAL-URL:https://trachtengau-niederbayern.de
X-WR-CALDESC:Veranstaltungen für Trachtengau Niederbayern
REFRESH-INTERVAL;VALUE=DURATION:PT1H
X-Robots-Tag:noindex
X-PUBLISHED-TTL:PT1H
BEGIN:VTIMEZONE
TZID:Europe/Berlin
BEGIN:DAYLIGHT
TZOFFSETFROM:+0100
TZOFFSETTO:+0200
TZNAME:CEST
DTSTART:20210328T010000
END:DAYLIGHT
BEGIN:STANDARD
TZOFFSETFROM:+0200
TZOFFSETTO:+0100
TZNAME:CET
DTSTART:20211031T010000
END:STANDARD
BEGIN:DAYLIGHT
TZOFFSETFROM:+0100
TZOFFSETTO:+0200
TZNAME:CEST
DTSTART:20220327T010000
END:DAYLIGHT
BEGIN:STANDARD
TZOFFSETFROM:+0200
TZOFFSETTO:+0100
TZNAME:CET
DTSTART:20221030T010000
END:STANDARD
BEGIN:DAYLIGHT
TZOFFSETFROM:+0100
TZOFFSETTO:+0200
TZNAME:CEST
DTSTART:20230326T010000
END:DAYLIGHT
BEGIN:STANDARD
TZOFFSETFROM:+0200
TZOFFSETTO:+0100
TZNAME:CET
DTSTART:20231029T010000
END:STANDARD
END:VTIMEZONE
BEGIN:VEVENT
DTSTART;VALUE=DATE:20220423
DTEND;VALUE=DATE:20220426
DTSTAMP:20260424T132406
CREATED:20260320T113917Z
LAST-MODIFIED:20260320T113917Z
UID:10000021-1650672000-1650844800@trachtengau-niederbayern.de
SUMMARY:Vortänzerlehrgang
DESCRIPTION:Sa/So\, 23./24. April Vortänzerlehrgang in Rohr (Ndb)
URL:https://trachtengau-niederbayern.de/event/vortaenzerlehrgang/
LOCATION:Rohr (Ndb)\, Asamstr. 1\, 93352 Rohr in Niederbayern
CATEGORIES:Trachtengau
END:VEVENT
END:VCALENDAR